BEGIN:VCALENDAR
VERSION:2.0
PRODID:-//Maple Springs Baptist Bible College &amp; Seminary
CALSCALE:GREGORIAN
METHOD:PUBLISH
X-WR-CALNAME:Maple Springs Baptist Bible College &amp; Seminary
X-ORIGINAL-URL:https://msbbcs.edu/event/new-year-holiday-break-school-office-closed/
X-WR-CALDESC:New Year Holiday Break (School &#038; Office Closed)
BEGIN:VEVENT
DTSTART:20220101T000000
DTEND:20220102T000000
SUMMARY:New Year Holiday Break (School &#038; Office Closed)
DESCRIPTION:
LOCATION:
END:VEVENT
END:VCALENDAR
